Workbook

Sheet Arkusz1
A2: S P R A W O Z D A N I E
A3: z wykonania budżetu Miasta i Gminy SKAWINA
A4: za 2013 r.
B7: I. DOCHODY
E8: w złotych
C9: Plan | F9: %
A10: Dział | B10: N a z w a | C10: wg | D10: po | E10: Wykonanie | F10: wykonania
C11: Uchwały | D11: zmianach
C12: Budżetowej | F12: 5 : 4
A13: 1 | B13: 2 | C13: 3 | D13: 4 | E13: 5 | F13: 6
A15: 010 | B15: ROLNICTWO I ŁOWIECTWO | C15: =SUM(C17+C20) -> 5000 | D15: =SUM(D17+D20) -> 33937.44 | E15: =SUM(E17+E20) -> 33537.44 | F15: =E15/D15*100 -> 98.821361
B16: w tym:
B17: a) dochody bieżące | D17: =SUM(D18:D18) -> 33437.44 | E17: =SUM(E18:E18) -> 33437.44
B18: - dotacja celowa otrzymana z budżetu państwa na wypłaty producentom rolnym zwrotu podatku akcyzowego do produkcji rolnej | D18: 33437.44 | E18: 33437.44
B20: b) dochody majątkowe | C20: =SUM(C21) -> 5000 | D20: =SUM(D21:D21) -> 500 | E20: =SUM(E21:E21) -> 100
B21: - środki na dofinansowanie własnych inwestycji gmin (związków gmin), powiatów (związków powiatów), samorządów województw pozyskane z innych źródeł | C21: 5000 | D21: 500 | E21: 100
A23: 020 | B23: LEŚNICTWO | C23: =SUM(C26+C29) -> 2000 | D23: =SUM(D26+D29) -> 2210 | E23: =SUM(E26+E29) -> 2400.81 | F23: =E23/D23*100 -> 108.63394
B24: w tym:
B26: a) dochody bieżące | C26: =SUM(C27) -> 1000 | D26: =SUM(D27) -> 1630 | E26: =SUM(E27) -> 1823.03
B27: - dochody z najmu i dzierżawy składników majątkowych Skarbu Państwa, jednostek samorządu terytorialnego lub innych jednostek zaliczanych do sektora finansów publicznych oraz innych umów o podobnym charakterze | C27: 1000 | D27: 1630 | E27: 1823.03
B29: b) dochody majątkowe | C29: =SUM(C30) -> 1000 | D29: =SUM(D30) -> 580 | E29: =SUM(E30) -> 577.78
B30: - wpływy ze sprzedaży składników majątkowych | C30: 1000 | D30: 580 | E30: 577.78
A34: 600 | B34: TRANSPORT I ŁĄCZNOŚĆ | C34: =SUM(C36+C41) -> 2478670 | D34: =SUM(D36+D41) -> 508228 | E34: =SUM(E36+E41) -> 397645.01 | F34: =E34/D34*100 -> 78.241461
B35: w tym:
B36: a) dochody bieżące | C36: =SUM(C37:C39) -> 400000 | D36: =SUM(D37:D39) -> 286044 | E36: =SUM(E37:E39) -> 175601
B37: - dotacje celowe otrzymane z powiatu na zadania bieżące realizowane na podstawie porozumień (umów) między jednostkami samorządu terytorialnego - zimowe utrzymanie dróg powiatowych | C37: 400000 | D37: 190443 | E37: 80000
B39: - dotacje celowe otrzymane z budżetu państwa na realizację własnych zadań bieżących gmin (związków gmin) - na usuwanie skutków klęsk żywiołowych | D39: 95601 | E39: 95601
B41: b) dochody majątkowe | C41: =SUM(C42:C46) -> 2078670 | D41: =SUM(D42:D46) -> 222184 | E41: =SUM(E42:E46) -> 222044.01
B42: - dotacje celowe w ramach programów finansowanych z udziałem środków europejskich oraz środków, o których mowa w art. 5 ust. 1 pkt 3 oraz ust 3 pkt 5 i 6 ustawy, lub płatności w ramach budżetu środków europejskich | C42: 2078670 | D42: 0 | E42: 0
B44: - dotacje celowe otrzymane z powiatu na inwestycje i zakupy inwestycyjne realizowane na podstawie porozumień (umów) między jednostkami samorządu terytorialnego | D44: 30600 | E44: 30600
B46: - dotacje celowe otrzymane samorządu województwa na inwestycje i zakupy inwestycyjne realizowane na podstawie porozumień (umów) między jednostkami samorządu terytorialnego | D46: 191584 | E46: 191444.01
A48: 630 | B48: TURYSTYKA | C48: =SUM(C50) -> 1200000 | D48: =SUM(D50) -> 0 | E48: 0
B49: w tym:
B50: b) dochody majątkowe | C50: =SUM(C51) -> 1200000 | D50: =SUM(D51) -> 0 | E50: 0
B51: - dotacje celowe w ramach programów finansowanych z udziałem środków europejskich oraz środków, o których mowa w art. 5 ust. 1 pkt 3 oraz ust 3 pkt 5 i 6 ustawy, lub płatności w ramach budżetu środków europejskich | C51: 1200000 | D51: 0 | E51: 0
A54: 700 | B54: GOSPODARKA MIESZKANIOWA | C54: =SUM(C57+C66) -> 13895000 | D54: =SUM(D57+D66) -> 11093905 | E54: =SUM(E57+E66) -> 11016424 | F54: =E54/D54*100 -> 99.30159
B55: w tym:
B57: a) dochody bieżące | C57: =SUM(C58+C60+C62+C64) -> 4375000 | D57: =SUM(D58+D60+D62+D64) -> 4357600 | E57: =SUM(E58+E60+E62+E64) -> 4377669.9
B58: - pozostałe odsetki | C58: 5000 | D58: 12600 | E58: 12915
B60: - wpływy z opłat za trwały zarząd, użytkowanie, służebność i użytkowanie wieczyste nieruchomości | C60: 320000 | D60: 275000 | E60: 269586.58
B62: - wpłaty z zysku jednoosobowych spółek Skarbu Państwa lub spółek jednostek samorządu terytorialnego | C62: 1350000 | D62: 900000 | E62: 900000
B64: - dochody z najmu i dzierżawy składników majątkowych Skarbu Państwa, jednostek samorządu terytorialnego lub innych jednostek zaliczanych do sektora finansów publicznych oraz innych umów o podobnym charakterze | C64: 2700000 | D64: 3170000 | E64: 3195168.3
B66: b) dochody majątkowe | C66: =SUM(C67:C70) -> 9520000 | D66: =SUM(D67:D72) -> 6736305 | E66: =SUM(E67:E72) -> 6638754.1
B67: - wpływy z tytułu przekształcenia prawa użytkowania wieczystego przysługującego osobom fizycznym w prawo własności | C67: 20000 | D67: 18000 | E67: 16475
B69: - wpłaty z tytułu odpłatnego nabycia prawa własności oraz prawa użytkowania wieczystego nieruchomości | C69: 9500000 | D69: 6718000 | E69: 6621974.1
B72: - wpływy ze sprzedaży składników majątkowych | D72: 305 | E72: 305
A75: 710 | B75: DZIAŁALNOŚĆ USŁUGOWA | C75: =SUM(C78) -> 120000 | D75: =SUM(D78) -> 175694 | E75: =SUM(E78) -> 189726.67 | F75: =E75/D75*100 -> 107.98699
B77: w tym:
B78: a) dochody bieżące | C78: =SUM(C79:C81) -> 120000 | D78: =SUM(D79:D81) -> 175694 | E78: =SUM(E79:E81) -> 189726.67
B79: - wpływy z usług ( opłata cmentarna) | C79: 120000 | D79: 170000 | E79: 184033
B81: - wpłata środków finansowych z niewykorzystanych w terminie wydatków, które nie wygasają z upływem roku budżetowego | D81: 5694 | E81: 5693.67
A84: 750 | B84: ADMINISTRACJA PUBLICZNA | C84: =SUM(C86) -> 210825 | D84: =SUM(D86) -> 251857 | E84: =SUM(E86) -> 251944.95 | F84: =E84/D84*100 -> 100.03492
B85: w tym:
B86: a) dochody bieżące | C86: =SUM(C87:C96) -> 210825 | D86: =SUM(D87:D96) -> 251857 | E86: =SUM(E87:E96) -> 251944.95
B87: - wpływy z różnych opłat | C87: 7000 | D87: 6500 | E87: 6576.81
B88: (duplikaty legitymacji, świadectw, zwrot kosztów upomnień)
B90: - wpływy z usług ksero | C90: 1000 | D90: 100 | E90: 87.41
B92: - wpływy z różnych dochodów | C92: 1000 | D92: 40600 | E92: 40643.13
B94: - dotacje celowe otrzymane z budżetu państwa na realizację zadań bieżących z zakresu administracji rządowej oraz innych zadań zleconych gminie (związkom gmin) ustawami | C94: 201725 | D94: 204557 | E94: 204557
B96: - dochody jednostek samorządu terytorialnego związane z realizacją zadań z zakresu administracji rządowej oraz innych zadań zleconych ustawami | C96: 100 | D96: 100 | E96: 80.6
A98: 751 | B98: URZĘDY NACZELNYCH ORGANÓW WŁADZY PAŃSTWOWEJ, KONTROLI I OCHRONY PRAWA ORAZ SĄDOWNICTWA | C98: =SUM(C101) -> 6300 | D98: =SUM(D101) -> 6300 | E98: =SUM(E101) -> 6299.6 | F98: =E98/D98*100 -> 99.993651
B100: w tym:
B101: a) dochody bieżące | C101: =SUM(C102) -> 6300 | D101: =SUM(D102) -> 6300 | E101: =SUM(E102) -> 6299.6
B102: - dotacje celowe otrzymane z budżetu państwa na realizację zadań bieżących z zakresu administracji rządowej oraz innych zadań zleconych gminie (związkom gmin) ustawami - prowadzenie i aktualizacja rejestru wyborców | C102: 6300 | D102: 6300 | E102: 6299.6
A105: 754 | B105: BEZPIECZEŃSTWO PUBLICZNE I OCHRONA PRZECIWPOŻAROWA | C105: =SUM(C107) -> 40500 | D105: =SUM(D107+D113) -> 72500 | E105: =SUM(E107+E113) -> 72032.91 | F105: =E105/D105*100 -> 99.355738
B106: w tym:
B107: a) dochody bieżące | C107: =SUM(C108+C111) -> 40500 | D107: =SUM(D108+D111) -> 32500 | E107: =SUM(E108+E111) -> 32032.91
B108: - grzywny, mandaty i inne kary pieniężne od osób fizycznych | C108: 40000 | D108: 32000 | E108: 31532.91
B109: - mandaty nakładane przez Straż Miejską
B111: - dotacje celowe otrzymane z budżetu państwa na realizację zadań bieżących z zakresu administracji rządowej oraz innych zadań zleconych gminie (związkom gmin) ustawami - obrona cywilna | C111: 500 | D111: 500 | E111: 500
B113: b) dochody majątkowe | D113: =SUM(D114) -> 40000 | E113: =SUM(E114) -> 40000
B114: - dotacja celowa otrzymana z tytułu pomocy finansowej udzielanej między jednostkami samorządu terytorialnego na dofinasowanie własnych zadań inwestycyjnych i zakupów inwestycyjnych | D114: 40000 | E114: 40000
A117: 756 | B117: DOCHODY OD OSÓB PRAWNYCH, OD OSÓB FIZYCZNYCH I OD INNYCH JEDNOSTEK NIEPOSIADAJĄCYCH OSOBOWOŚCI PRAWNEJ ORAZ WYDATKI ZWIĄZANE Z ICH POBOREM | C117: =SUM(C119) -> 67275421 | D117: =SUM(D119) -> 71110901 | E117: =SUM(E119) -> 70425183 | F117: =E117/D117*100 -> 99.035707
B118: w tym:
B119: a) dochody bieżące | C119: =SUM(C120:C150) -> 67275421 | D119: =SUM(D120:D150) -> 71110901 | E119: =SUM(E120:E150) -> 70425183
B120: - podatek dochodowy od osób fizycznych | C120: 25513921 | D120: 25513921 | E120: 24583364
B122: - podatek dochodowy od osób prawnych | C122: 6000000 | D122: 6000000 | E122: 5929563.3
B124: - podatek od nieruchomości | C124: 30735000 | D124: 34035000 | E124: 34306231
B126: - podatek rolny | C126: 1400000 | D126: 1550000 | E126: 1534442
B128: - podatek leśny | C128: 30000 | D128: 26500 | E128: 26930.77
B130: - podatek od środków transportowych | C130: 760000 | D130: 805000 | E130: 827529.86
B132: - podatek od działalności gospodarczej osób fizycznych, opłacany w formie karty podatkowej | C132: 40000 | D132: 69000 | E132: 74627.01
B134: - podatek od spadków i darowizn | C134: 250000 | D134: 220000 | E134: 223863.65
B136: - wpływy z opłaty skarbowej | C136: 120000 | D136: 132000 | E136: 133347
B138: - wpływy z opłaty targowej | C138: 480000 | D138: 480000 | E138: 474686.7
B140: - wpływy z innych lokalnych opłat (za zajęcie pasa drogowego, opłata planistyczna) | C140: 70000 | D140: 201600 | E140: 199933.43
B142: - podatek od czynności cywilnoprawnych | C142: 1200000 | D142: 1291000 | E142: 1303082.4
... B146: - odsetki od nieterminowych wpłat z tytułu podatków i opłat | C146: 50000 | D146: 97000 | E146: 106895.42
B148: - zaległosci z tytułu podatków i opłat zniesionych | D148: 380 | E148: 380.8
B150: - wpływy z różnych opłat (zwrot kosztów upomnień) | C150: 6500 | D150: 21500 | E150: 25789
A153: 758 | B153: RÓŻNE ROZLICZENIA | C153: =SUM(C155) -> 27911028 | D153: =SUM(D155) -> 27396860 | E153: =SUM(E155) -> 27261610 | F153: =E153/D153*100 -> 99.50633
B154: w tym:
B155: a) dochody bieżące | C155: =SUM(C156:C166) -> 27911028 | D155: =SUM(D156+D158+D160+D162+D166+D164) -> 27396860 | E155: =SUM(E156+E158+E160+E162+E166+E164) -> 27261610
B156: - część oświatowa subwencji ogólnej | C156: 26760081 | D156: 27060117 | E156: 27060117
B158: - część równoważąca subwencji ogólnej dla gmin | C158: 50947 | D158: 50947 | E158: 50947
B160: - odsetki od rachunków bankowych oraz lokat | C160: 100000 | D160: 60000 | E160: 61679.77
B162: - wpływy z różnych dochodów i opłat | C162: 1000000 | D162: 62800 | E162: 63185.76
B164: - otrzymane spadki, zapisy i darowizny w postaci pieniężnej | D164: 19681 | E164: 19680.38
B166: - grzywny i inne kary pieniężne od osób prawnych i innych jednostek organizacyjnych | D166: 143315 | E166: 6000
A170: 801 | B170: OŚWIATA I WYCHOWANIE | C170: =SUM(C173+C197) -> 3575031 | D170: =SUM(D173+D197) -> 3769838 | E170: =SUM(E173+E197) -> 3988710.1 | F170: =E170/D170*100 -> 105.80588
...

Sheet Arkusz2
C1: II. WYDATKI
F2: w złotych
D3: Plan
A4: Dział | B4: Rozdz. | C4: N a z w a | D4: wg | E4: po | F4: Wykonanie | G4: %
D5: Uchwały Budżetowej | E5: zmianach | G5: 6:5
A7: 1 | B7: 2 | C7: 3 | D7: 4 | E7: 5 | F7: 6 | G7: 7
A9: 010 | C9: ROLNICTWO I ŁOWIECTWO | D9: =SUM(D11+D17+D27) -> 479200 | E9: =SUM(E11+E17+E21+E27) -> 664377.44 | F9: =SUM(F11+F17+F21+F27) -> 649093.2 | G9: =F9/E9*100 -> 97.699464
B11: 01008 | C11: Melioracje wodne | D11: =SUM(D13+D15) -> 411200 | E11: =SUM(E13+E15) -> 391160 | F11: =SUM(F13+F15) -> 378646.78
C12: w tym:
C13: a) wydatki bieżące | D13: 211200 | E13: =SUM(Arkusz3!D11) -> 60160 | F13: =SUM(Arkusz3!E11) -> 53081.77
C15: b) wydatki majątkowe | D15: 200000 | E15: =SUM(Arkusz4!D11) -> 331000 | F15: =SUM(Arkusz4!E11) -> 325565.01
B17: 01030 | C17: Izby rolnicze | D17: =SUM(D19) -> 28000 | E17: =SUM(E19) -> 31000 | F17: =SUM(F19) -> 30653.86
C18: w tym:
C19: a) wydatki bieżące | D19: 28000 | E19: =SUM(Arkusz3!D18) -> 31000 | F19: =SUM(Arkusz3!E18) -> 30653.86
B21: 01078 | C21: Usuwanie skutków klęsk żywiołowych | D21: 0 | E21: =SUM(E23+E25) -> 197780 | F21: =SUM(F23+F25) -> 197730.07
C22: w tym:
C23: a) wydatki bieżące | D23: 0 | E23: =SUM(Arkusz3!D24) -> 131080 | F23: =SUM(Arkusz3!E24) -> 131076.23
C25: b) wydatki majątkowe | D25: 0 | E25: =SUM(Arkusz4!D16) -> 66700 | F25: =SUM(Arkusz4!E16) -> 66653.84
B27: 01095 | C27: Pozostała działalność | D27: =SUM(D29) -> 40000 | E27: =SUM(E29) -> 44437.44 | F27: =SUM(F29) -> 42062.49
C28: w tym:
C29: a) wydatki bieżące | D29: 40000 | E29: =SUM(Arkusz3!D30) -> 44437.44 | F29: =SUM(Arkusz3!E30) -> 42062.49
A32: 020 | C32: LEŚNICTWO | D32: =SUM(D34) -> 5000 | E32: =SUM(E34) -> 5000 | F32: =SUM(F34) -> 3498.4 | G32: =F32/E32*100 -> 69.968
B34: 02001 | C34: Gospodarka leśna | D34: =SUM(D36) -> 5000 | E34: =SUM(E36) -> 5000 | F34: =SUM(F36) -> 3498.4
C35: w tym:
C36: a) wydatki bieżące | D36: 5000 | E36: =SUM(Arkusz3!D39) -> 5000 | F36: =SUM(Arkusz3!E39) -> 3498.4
A39: 600 | C39: TRANSPORT I ŁĄCZNOŚĆ | D39: =SUM(D41+D45+D49+D55+D61+D67) -> 8576200 | E39: =SUM(E41+E45+E49+E55+E61+E67) -> 12835879 | F39: =SUM(F41+F45+F49+F55+F61+F67) -> 12497661 | G39: =F39/E39*100 -> 97.365058
B41: 60004 | C41: Lokalny transport zbiorowy | D41: =SUM(D43) -> 3040000 | E41: =SUM(E43) -> 2917950 | F41: =SUM(F43) -> 2869886.9
C42: w tym:
C43: a) wydatki bieżące | D43: 3040000 | E43: =SUM(Arkusz3!D49) -> 2917950 | F43: =SUM(Arkusz3!E49) -> 2869886.9
B45: 60013 | C45: Drogi publiczne wojewódzkie | D45: =SUM(D47) -> 450000 | E45: =SUM(E47) -> 649184 | F45: =SUM(F47) -> 648888.02
C46: w tym:
C47: b) wydatki majątkowe | D47: 450000 | E47: =SUM(Arkusz4!D24) -> 649184 | F47: =SUM(Arkusz4!E24) -> 648888.02
B49: 60014 | C49: Drogi publiczne powiatowe | D49: =SUM(D51+D53) -> 1830000 | E49: =SUM(E51+E53) -> 851643 | F49: =SUM(F51+F53) -> 815512.15
C50: w tym:
C51: a) wydatki bieżące | D51: 400000 | E51: =SUM(Arkusz3!D56) -> 190443 | F51: =SUM(Arkusz3!E56) -> 190442.25
C53: b) wydatki majątkowe | D53: 1430000 | E53: =SUM(Arkusz4!D29) -> 661200 | F53: =SUM(Arkusz4!E29) -> 625069.9
B55: 60016 | C55: Drogi publiczne gminne | D55: =SUM(D57+D59) -> 3141200 | E55: =SUM(E57+E59) -> 7212699 | F55: =SUM(F57+F59) -> 6973899.1
C56: w tym:
C57: a) wydatki bieżące | D57: 2778200 | E57: =SUM(Arkusz3!D62) -> 3077009 | F57: =SUM(Arkusz3!E62) -> 2970732.2
C59: b) wydatki majątkowe | D59: 363000 | E59: =SUM(Arkusz4!D35) -> 4135690 | F59: =SUM(Arkusz4!E35) -> 4003166.9
B61: 60078 | C61: Usuwanie skutków klęsk żywiołowych | D61: =SUM(D63) -> 0 | E61: =SUM(E63+E65) -> 1084483 | F61: =SUM(F63+F65) -> 1073362.9
C62: w tym:
C63: a) wydatki bieżące | D63: 0 | E63: =SUM(Arkusz3!D69) -> 599783 | F63: =SUM(Arkusz3!E69) -> 591029
C65: b) wydatki majątkowe | E65: =SUM(Arkusz4!D51) -> 484700 | F65: =SUM(Arkusz4!E51) -> 482333.85
B67: 60095 | C67: Pozostała działalność | D67: =SUM(D69) -> 115000 | E67: =SUM(E69+E71) -> 119920 | F67: =SUM(F69+F71) -> 116112
C68: w tym:
C69: a) wydatki bieżące | D69: 115000 | E69: =SUM(Arkusz3!D75) -> 115000 | F69: =SUM(Arkusz3!E75) -> 113652
C71: b) wydatki majątkowe | E71: =SUM(Arkusz4!D56) -> 4920 | F71: =SUM(Arkusz4!E56) -> 2460
A74: 630 | C74: TURYSTYKA | D74: =SUM(D76) -> 1200000 | E74: =SUM(E76) -> 0 | F74: =SUM(F76) -> 0
B76: 63095 | C76: Pozostała działalność | D76: =SUM(D78) -> 1200000 | E76: =SUM(E78) -> 0 | F76: =SUM(F78) -> 0
C77: w tym:
C78: a) wydatki majątkowe | D78: 1200000 | E78: 0 | F78: 0
A81: 700 | C81: GOSPODARKA MIESZKANIOWA | D81: =SUM(D83) -> 6554489 | E81: =SUM(E83) -> 5142085 | F81: =SUM(F83) -> 4609960 | G81: =F81/E81*100 -> 89.651571
B83: 70005 | C83: Gospodarka gruntami i nieruchomościami | D83: =SUM(D85+D87) -> 6554489 | E83: =SUM(E85+E87) -> 5142085 | F83: =SUM(F85+F87) -> 4609960
C84: w tym:
C85: a) wydatki bieżące | D85: 5000000 | E85: =SUM(Arkusz3!D84) -> 4308596 | F85: =SUM(Arkusz3!E84) -> 3783390.1
C87: b) wydatki majątkowe | D87: 1554489 | E87: =SUM(Arkusz4!D64) -> 833489 | F87: =SUM(Arkusz4!E64) -> 826569.86
A90: 710 | C90: DZIAŁALNOŚĆ USŁUGOWA | D90: =SUM(D92+D96+D100) -> 1167000 | E90: =SUM(E92+E96+E100) -> 434257 | F90: =SUM(F92+F96+F100) -> 357656.03 | G90: =F90/E90*100 -> 82.360452
B92: 71004 | C92: Plany zagospodarowania przestrzennego | D92: =SUM(D94) -> 500000 | E92: =SUM(E94) -> 261563 | F92: =SUM(F94) -> 224763.57
C93: w tym:
C94: a) wydatki bieżące | D94: 500000 | E94: =SUM(Arkusz3!D93) -> 261563 | F94: =SUM(Arkusz3!E93) -> 224763.57
B96: 71013 | C96: Prace geodezyjne i kartograficzne (nieinwestycyjne) | D96: =SUM(D98) -> 600000 | E96: =SUM(E98) -> 105694 | F96: =SUM(F98) -> 71595.19
C97: w tym:
C98: a) wydatki bieżące | D98: 600000 | E98: =SUM(Arkusz3!D100) -> 105694 | F98: =SUM(Arkusz3!E100) -> 71595.19
B100: 71035 | C100: Cmentarze | D100: =SUM(D102) -> 67000 | E100: =SUM(E102:E102) -> 67000 | F100: =SUM(F102:F102) -> 61297.27
C101: w tym:
C102: a) wydatki bieżące | D102: 67000 | E102: =SUM(Arkusz3!D106) -> 67000 | F102: =SUM(Arkusz3!E106) -> 61297.27
A105: 750 | C105: ADMINISTRACJA PUBLICZNA | D105: =SUM(D107+D111+D115+D121+D125+D129) -> 10480000 | E105: =SUM(E107+E111+E115+E121+E125+E129) -> 10476432 | F105: =+SUM(F107+F111+F115+F125+F129) -> 10136733 | G105: =F105/E105*100 -> 96.75749
B107: 75011 | C107: Urzędy wojewódzkie | D107: =SUM(D109) -> 683000 | E107: =SUM(E109) -> 686532 | F107: =SUM(F109) -> 683167.75
C108: w tym:
C109: a) wydatki bieżące | D109: 683000 | E109: =SUM(Arkusz3!D115) -> 686532 | F109: =SUM(Arkusz3!E115) -> 683167.75
B111: 75022 | C111: Rady gmin (miast i miast na prawach powiatu) | D111: =SUM(D113) -> 375000 | E111: =SUM(E113) -> 335000 | F111: =SUM(F113) -> 323412.51
C112: w tym:
C113: a) wydatki bieżące | D113: 375000 | E113: =SUM(Arkusz3!D121) -> 335000 | F113: =SUM(Arkusz3!E121) -> 323412.51
B115: 75023 | C115: Urzędy gmin (miast i miast na prawach powiatu) | D115: =SUM(D117+D119) -> 8600000 | E115: =SUM(E117+E119) -> 8585000 | F115: =SUM(F117+F119) -> 8300748
C116: w tym:
C117: a) wydatki bieżące | D117: 8350000 | E117: =SUM(Arkusz3!D128) -> 8425000 | F117: =SUM(Arkusz3!E128) -> 8195603.9
C119: b) wydatki majątkowe | D119: 250000 | E119: =SUM(Arkusz4!D73) -> 160000 | F119: =SUM(Arkusz4!E73) -> 105144.09
B121: 75045 | C121: Kwalifikacja wojskowa | D121: =SUM(D123) -> 700 | E121: =+SUM(E123) -> 0
C122: w tym:
C123: a) wydatki bieżące | D123: 700 | E123: 0 | F123: 0
B125: 75075 | C125: Promocja jednostek samorządu terytorialnego | D125: =SUM(D127) -> 225000 | E125: =SUM(E127) -> 268600 | F125: =SUM(F127) -> 264345.39
C126: w tym:
C127: a) wydatki bieżące | D127: 225000 | E127: =SUM(Arkusz3!D136) -> 268600 | F127: =SUM(Arkusz3!E136) -> 264345.39
B129: 75095 | C129: Pozostała działalność | D129: =SUM(D131) -> 596300 | E129: =SUM(E131) -> 601300 | F129: =SUM(F131) -> 565059
C130: w tym:
C131: a) wydatki bieżące | D131: 596300 | E131: =SUM(Arkusz3!D143) -> 601300 | F131: =SUM(Arkusz3!E143) -> 565059
A134: 751 | C134: URZĘDY NACZELNYCH ORGANÓW WŁADZY PAŃSTWOWEJ, KONTROLI I OCHRONY PRAWA ORAZ SĄDOWNICTWA | D134: =SUM(D136) -> 6300 | E134: =SUM(E136) -> 6300 | F134: =SUM(F136) -> 6299.6 | G134: 100
B136: 75101 | C136: Urzędy naczelnych organów władzy państwowej, kontroli i ochrony prawa | D136: =SUM(D138) -> 6300 | E136: =SUM(E138) -> 6300 | F136: =SUM(F138) -> 6299.6
C137: w tym:
C138: a) wydatki bieżące | D138: 6300 | E138: =SUM(Arkusz3!D154) -> 6300 | F138: =SUM(Arkusz3!E154) -> 6299.6
A141: 754 | C141: BEZPIECZEŃSTWO PUBLICZNE I OCHRONA PRZECIWPOŻAROWA | D141: =SUM(D143+D147+D153+D159+D163+D167+D171) -> 2112660 | E141: =SUM(E143+E147+E153+E159+E163+E167+E171) -> 2472670 | F141: =SUM(F143+F147+F153+F159+F163+F167+F171) -> 2409161 | G141: =F141/E141*100 -> 97.43156
B143: 75404 | C143: Komendy wojewódzkie Policji | D143: =SUM(D145) -> 28160 | E143: =SUM(E145) -> 28160 | F143: =SUM(F145) -> 28160
C144: w tym:
C145: a) wydatki bieżące | D145: 28160 | E145: =SUM(Arkusz3!D166) -> 28160 | F145: =SUM(Arkusz3!E164) -> 28160
B147: 75411 | C147: Komendy powiatowe Państwowej Straży Pożarnej | D147: =D151 -> 20000 | E147: =SUM(E149,E151) -> 42000 | F147: =SUM(F149,F151) -> 41550.26
C148: w tym:
C149: a) wydatki bieżące | D149: 0 | E149: =SUM(Arkusz3!D168) -> 22000 | F149: =SUM(Arkusz3!E170) -> 21550.26
C151: b) wydatki majątkowe | D151: 20000 | E151: =SUM(Arkusz4!D81) -> 20000 | F151: =SUM(Arkusz4!E81) -> 20000
B153: 75412 | C153: Ochotnicze straże pożarne | D153: =SUM(D155+D157) -> 411000 | E153: =SUM(E155+E157) -> 574600 | F153: =SUM(F155+F157) -> 556190.87
...

Sheet Arkusz3
B2: III. WYDATKI bieżące
E3: w złotych
A5: Dział | B5: Rozdz. | C5: N a z w a | D5: Plan | E5: Wykonanie | F5: %
F6: 5:4
A7: 1 | B7: 2 | C7: 3 | D7: 4 | E7: 5 | F7: 6
A9: 010 | C9: ROLNICTWO I ŁOWIECTWO | D9: =SUM(D11+D18+D24+D30) -> 266677.44 | E9: =SUM(E11+E18+E24+E30) -> 256874.35 | F9: =E9/D9*100 -> 96.32399
B11: 01008 | C11: Melioracje wodne | D11: =SUM(D13) -> 60160 | E11: =SUM(E13) -> 53081.77
C12: w tym:
C13: - wydatki bieżące jednostek budżetowych | D13: =SUM(D15:D16) -> 60160 | E13: =SUM(E15:E16) -> 53081.77
C14: z tego:
C15: - wynagrodzenia i składki od nich naliczane | D15: 23000 | E15: 22536.17
C16: - związane z realizacją zadań statutowych jednostek budżetowych | D16: 37160 | E16: 30545.6
B18: 01030 | C18: Izby rolnicze | D18: =SUM(D20) -> 31000 | E18: =SUM(E20) -> 30653.86
C19: w tym:
C20: - wydatki bieżące jednostek budżetowych | D20: =SUM(D22) -> 31000 | E20: =SUM(E22) -> 30653.86
C21: z tego:
C22: - związane z realizacją zadań statutowych jednostek budżetowych | D22: 31000 | E22: 30653.86
B24: 01078 | C24: Usuwanie skutków klęsk żywiołowych | D24: =SUM(D26) -> 131080 | E24: =SUM(E26) -> 131076.23
C25: w tym:
C26: - wydatki bieżące jednostek budżetowych | D26: =SUM(D28) -> 131080 | E26: =SUM(E28) -> 131076.23
C27: z tego:
C28: - związane z realizacją zadań statutowych jednostek budżetowych | D28: 131080 | E28: 131076.23
B30: 01095 | C30: Pozostała działalność | D30: =SUM(D32) -> 44437.44 | E30: =SUM(E32) -> 42062.49
C31: w tym:
C32: - wydatki bieżące jednostek budżetowych | D32: =SUM(D34) -> 44437.44 | E32: =SUM(E34) -> 42062.49
C33: z tego:
C34: - związane z realizacją zadań statutowych jednostek budżetowych | D34: 44437.44 | E34: 42062.49
A37: 020 | C37: LEŚNICTWO | D37: =SUM(D39) -> 5000 | E37: =SUM(E39) -> 3498.4 | F37: =E37/D37*100 -> 69.968
B39: 02001 | C39: Gospodarka leśna | D39: =SUM(D41) -> 5000 | E39: =SUM(E41) -> 3498.4
C40: w tym:
C41: - wydatki bieżące jednostek budżetowych | D41: =SUM(D43:D44) -> 5000 | E41: =SUM(E43:E44) -> 3498.4
C42: z tego:
C43: - wynagrodzenia i składki od nich naliczane | D43: 1000 | E43: 0
C44: - związane z realizacją zadań statutowych jednostek budżetowych | D44: 4000 | E44: 3498.4
A47: 600 | C47: TRANSPORT I ŁĄCZNOŚĆ | D47: =SUM(D49+D56+D62+D69+D75) -> 6900185 | E47: =SUM(E49+E56+E62+E69+E75) -> 6735742.3 | F47: =E47/D47*100 -> 97.616837
B49: 60004 | C49: Lokalny transport zbiorowy | D49: =SUM(D51+D54) -> 2917950 | E49: =SUM(E51+E54) -> 2869886.9
C50: w tym:
C51: - wydatki bieżące jednostek budżetowych | D51: =SUM(D53) -> 125950 | E51: =SUM(E53) -> 115229.51
C52: z tego:
C53: - związane z realizacją zadań statutowych jednostek budżetowych | D53: 125950 | E53: 115229.51
C54: - dotacje na zadania bieżące | D54: 2792000 | E54: 2754657.4
B56: 60014 | C56: Drogi publiczne powiatowe | D56: =SUM(D58+D59) -> 190443 | E56: =SUM(E58+E59) -> 190442.25
C57: w tym:
C58: - wydatki bieżące jednostek budżetowych | D58: =SUM(D60) -> 190443 | E58: =SUM(E60) -> 190442.25
C59: z tego:
C60: - związane z realizacją zadań statutowych jednostek budżetowych | D60: 190443 | E60: 190442.25
B62: 60016 | C62: Drogi publiczne gminne | D62: =SUM(D64) -> 3077009 | E62: =SUM(E64) -> 2970732.2
C63: w tym:
C64: - wydatki bieżące jednostek budżetowych | D64: =SUM(D66:D67) -> 3077009 | E64: =SUM(E66:E67) -> 2970732.2
C65: z tego:
C66: - wynagrodzenia i składki od nich naliczane | D66: 32800 | E66: 28725.12
C67: - związane z realizacją zadań statutowych jednostek budżetowych | D67: 3044209 | E67: 2942007.1
B69: 60078 | C69: Usuwanie skutków klęsk żywiołowych | D69: =SUM(D71) -> 599783 | E69: =SUM(E71) -> 591029
C70: w tym:
C71: - wydatki bieżące jednostek budżetowych | D71: =SUM(D73) -> 599783 | E71: =SUM(E73) -> 591029
C72: z tego:
C73: - związane z realizacją zadań statutowych jednostek budżetowych | D73: 599783 | E73: 591029
B75: 60095 | C75: Pozostała działalność | D75: =SUM(D77) -> 115000 | E75: =SUM(E77) -> 113652
C76: w tym:
C77: - wydatki bieżące jednostek budżetowych | D77: =SUM(D79) -> 115000 | E77: =SUM(E79) -> 113652
C78: z tego:
C79: - związane z realizacją zadań statutowych jednostek budżetowych | D79: 115000 | E79: 113652
A82: 700 | C82: GOSPODARKA MIESZKANIOWA | D82: =SUM(D84) -> 4308596 | E82: =SUM(E84) -> 3783390.1 | F82: =E82/D82*100 -> 87.810278
B84: 70005 | C84: Gospodarka gruntami i nieruchomościami | D84: =SUM(D86) -> 4308596 | E84: =SUM(E86) -> 3783390.1
C85: w tym:
C86: - wydatki bieżące jednostek budżetowych | D86: =SUM(D88:D88) -> 4308596 | E86: =SUM(E88:E88) -> 3783390.1
C87: z tego:
C88: - związane z realizacją zadań statutowych jednostek budżetowych | D88: 4308596 | E88: 3783390.1
A91: 710 | C91: DZIAŁALNOŚĆ USŁUGOWA | D91: =SUM(D93+D100+D106) -> 434257 | E91: =SUM(E93+E100+E106) -> 357656.03 | F91: =E91/D91*100 -> 82.360452
B93: 71004 | C93: Plany zagospodarowania przestrzennego | D93: =SUM(D95) -> 261563 | E93: =SUM(E95) -> 224763.57
C94: w tym:
C95: - wydatki bieżące jednostek budżetowych | D95: =SUM(D97:D98) -> 261563 | E95: =SUM(E97:E98) -> 224763.57
C96: z tego:
C97: - wynagrodzenia i składki od nich naliczane | D97: 48000 | E97: 15000
C98: - związane z realizacją zadań statutowych jednostek budżetowych | D98: 213563 | E98: 209763.57
B100: 71013 | C100: Prace geodezyjne i kartograficzne (nieinwestycyjne) | D100: =SUM(D102) -> 105694 | E100: =SUM(E102) -> 71595.19
C101: w tym:
C102: - wydatki bieżące jednostek budżetowych | D102: =SUM(D104:D104) -> 105694 | E102: =SUM(E104) -> 71595.19
C103: z tego:
C104: - związane z realizacją zadań statutowych jednostek budżetowych | D104: 105694 | E104: 71595.19
B106: 71035 | C106: Cmentarze | D106: =SUM(D108) -> 67000 | E106: =SUM(E108) -> 61297.27
C107: w tym:
C108: - wydatki bieżące jednostek budżetowych | D108: =SUM(D110) -> 67000 | E108: =SUM(E110) -> 61297.27
C109: z tego:
C110: - związane z realizacją zadań statutowych jednostek budżetowych | D110: 67000 | E110: 61297.27
A113: 750 | C113: ADMINISTRACJA PUBLICZNA | D113: =+SUM(D115+D121+D128+D136+D143) -> 10316432 | E113: =+SUM(E115+E121+E128+E136+E143) -> 10031589 | F113: =E113/D113*100 -> 97.238935
B115: 75011 | C115: Urzędy wojewódzkie | D115: =SUM(D117) -> 686532 | E115: =SUM(E117) -> 683167.75
C116: w tym:
C117: - wydatki bieżące jednostek budżetowych | D117: =SUM(D119:D119) -> 686532 | E117: =SUM(E119:E119) -> 683167.75
C118: z tego:
C119: - wynagrodzenia i składki od nich naliczane | D119: 686532 | E119: 683167.75
B121: 75022 | C121: Rady gmin (miast i miast na prawach powiatu) | D121: =SUM(D123+D126) -> 335000 | E121: =SUM(E123+E126) -> 323412.51
C122: w tym:
C123: - wydatki bieżące jednostek budżetowych | D123: =SUM(D125) -> 23000 | E123: =SUM(E125) -> 17195.51
C124: z tego:
C125: - związane z realizacją zadań statutowych jednostek budżetowych | D125: 23000 | E125: 17195.51
C126: - świadczenia na rzecz osób fizycznych | D126: 312000 | E126: 306217
B128: 75023 | C128: Urzędy gmin (miast i miast na prawach powiatu) | D128: =SUM(D130+D134) -> 8425000 | E128: =SUM(E130+E134) -> 8195603.9
C129: w tym:
C130: - wydatki bieżące jednostek budżetowych | D130: =SUM(D132:D133) -> 8389167 | E130: =SUM(E132:E133) -> 8164965.9
...

Sheet Arkusz4
B2: IV. WYDATKI MAJĄTKOWE
E3: w złotych
A5: Dział | B5: Rozdz. | C5: N a z w a | D5: Plan | E5: Wykonanie | F5: %
F6: 5:4
A7: 1 | B7: 2 | C7: 3 | D7: 4 | E7: 5 | F7: 6
A9: 010 | C9: ROLNICTWO I ŁOWIECTWO | D9: =SUM(D11+D16) -> 397700 | E9: =SUM(E11+E16) -> 392218.85 | F9: =E9/D9 -> 0.98621788
B11: 01008 | C11: Melioracje wodne | D11: =SUM(D13) -> 331000 | E11: =SUM(E13) -> 325565.01
C12: w tym:
C13: - inwestycje i zakupy inwestycyjne | D13: =SUM(D14) -> 331000 | E13: =SUM(E14) -> 325565.01
C14: - budowa i modernizacja budowli melioracyjnych | D14: 331000 | E14: 325565.01
B16: 01078 | C16: Usuwanie skutków klęsk żywiołowych | D16: =SUM(D18) -> 66700 | E16: =SUM(E18) -> 66653.84
C17: w tym:
C18: - inwestycje i zakupy inwestycyjne | D18: =SUM(D19) -> 66700 | E18: =SUM(E19) -> 66653.84
C19: - odbudowa skarpy i umocnienia brzegu potoku "Czekajówka" przy ul. Kublińskiego | D19: 66700 | E19: 66653.84
A22: 600 | C22: TRANSPORT I ŁĄCZNOŚĆ | D22: =SUM(D24+D29+D35+D51+D56) -> 5935694 | E22: =SUM(E24+E29+E35+E51+E56) -> 5761918.7 | F22: =E22/D22*100 -> 97.072367
B24: 60013 | C24: Drogi publiczne wojewódzkie | D24: =SUM(D26) -> 649184 | E24: =SUM(E26) -> 648888.02
C25: w tym:
C26: - inwestycje i zakupy inwestycyjne | D26: =SUM(D27:D27) -> 649184 | E26: =SUM(E27:E27) -> 648888.02
C27: - budowa chodników wraz z odwodnieniem w m. Rzozów w ciągu drogi 953 | D27: 649184 | E27: 648888.02
B29: 60014 | C29: Drogi publiczne powiatowe | D29: =SUM(D31) -> 661200 | E29: =SUM(E31) -> 625069.9
C30: w tym:
C31: - inwestycje i zakupy inwestycyjne | D31: =SUM(D32,D33) -> 661200 | E31: =SUM(E32:E33) -> 625069.9
C32: - zadania w ramach IS 2013 | D32: 600000 | E32: 563869.9
C33: - przebudowa kanalizacji K2 wraz z remontem rowu na DP nr 1939K w m. Rzozów | D33: 61200 | E33: 61200
B35: 60016 | C35: Drogi publiczne gminne | D35: =SUM(D37) -> 4135690 | E35: =SUM(E37) -> 4003166.9
C36: w tym:
C37: - inwestycje i zakupy inwestycyjne | D37: =SUM(D38:D48) -> 4135690 | E37: =SUM(E38:E48) -> 4003166.9
C38: - budowa chodnika stanowiącego dojście do istniejącej kładki dla pieszych nad torami PKP od strony ul. Torowej w Skawinie | D38: 23150 | E38: 23134
C39: - budowa parkingu w rejonie basenu "Camena" | D39: 220850 | E39: 220850
C40: - budowa parkingu na działce nr 2341/1 przy ul. Kolejowej | D40: 28000 | E40: 28000
C41: - budowa parkingu na działce nr 2403 przy ul. Kolejowej | D41: 21000 | E41: 21000
C42: - odwodnienie centrum Radziszowa dla zlewni wód powierzchniowych w centrum oraz ul. Jagodowej i Widokowej | D42: 50000 | E42: 47109
C43: - przebudowa wlotu ul. Jaśminowej w Radziszowie do drogi powiatowej | D43: 10000 | E43: 4305
C44: - remont i przebudowa dróg, ulic i chodników: droga w m. Grabie, ul. Dębca, Tyniecka i Wojska Polskiego | D44: 482690 | E44: 482685
C45: - budowa drogi ul. Łąkowa, Kwiatowa | D45: 30000 | E45: 28566.51
C46: - przebudowa mostu na kanale Skawina-Łączany w m. Facimiech | D46: 70000 | E46: 0
C47: z tego:
C48: - na programy finansowane z udziałem środków, o których mowa w art. 5 ust 1 pkt 2 i 3 | D48: =SUM(D49:D49) -> 3200000 | E48: =SUM(E49:E49) -> 3147517.4
C49: - budowa Obwodnicy Skawiny | D49: 3200000 | E49: 3147517.4
B51: 60078 | C51: Usuwanie skutków klęsk żywiołowych | D51: =SUM(D53) -> 484700 | E51: =SUM(E53) -> 482333.85
C52: w tym:
C53: - inwestycje i zakupy inwestycyjne | D53: =SUM(D54) -> 484700 | E53: =SUM(E54) -> 482333.85
C54: - odbudowa infrastruktury drogowej | D54: 484700 | E54: 482333.85
B56: 60095 | C56: Pozostała działalność | D56: =SUM(D58) -> 4920 | E56: =SUM(E58) -> 2460
C57: w tym:
C58: - inwestycje i zakupy inwestycyjne | D58: =SUM(D59) -> 4920 | E58: =SUM(E59) -> 2460
C59: - rewitalizacja linii kolejowej Oświęcim - Kraków | D59: 4920 | E59: 2460
A62: 700 | C62: GOSPODARKA MIESZKANIOWA | D62: =SUM(D64) -> 833489 | E62: =SUM(E64) -> 826569.86 | F62: =E62/D62*100 -> 99.169858
B64: 70005 | C64: Gospodarka gruntami i nieruchomościami | D64: =SUM(D66) -> 833489 | E64: =SUM(E66) -> 826569.86
C65: w tym:
C66: - inwestycje i zakupy inwestycyjne | D66: =SUM(D67:D68) -> 833489 | E66: =SUM(E67:E68) -> 826569.86
C67: - wykupy gruntów | D67: 718489 | E67: 711821.66
C68: - przebudowa i adaptacja pomieszczeń na cele biurowe w budynku Rynek 12 | D68: 115000 | E68: 114748.2
A71: 750 | C71: ADMINISTRACJA PUBLICZNA | D71: =+SUM(D73) -> 160000 | E71: =SUM(E73) -> 105144.09 | F71: =E71/D71*100 -> 65.715056
B73: 75023 | C73: Urzędy gmin | D73: =SUM(D75) -> 160000 | E73: =SUM(E75) -> 105144.09
C74: w tym:
C75: - inwestycje i zakupy inwestycyjne | D75: =SUM(D76:D76) -> 160000 | E75: =SUM(E76:E76) -> 105144.09
C76: - zakup sprzętu komputerowego, oprogramowania | D76: 160000 | E76: 105144.09
A79: 754 | C79: BEZPIECZEŃSTWO PUBLICZNE I OCHRONA PRZECIWPOŻAROWA | D79: =SUM(D81+D86+D94) -> 266600 | E79: =SUM(E81+E86+E94) -> 256070.87 | F79: =E79/D79*100 -> 96.050589
B81: 75411 | C81: Komendy powiatowe Państwowej Straży Pożarnej | D81: =SUM(D83) -> 20000 | E81: =SUM(E83) -> 20000
C82: w tym:
C83: - inwestycje i zakupy inwestycyjne | D83: =SUM(D84) -> 20000 | E83: =SUM(E84) -> 20000
C84: - dotacja na dofinansowanie zakupu samochodu | D84: 20000 | E84: 20000
B86: 75412 | C86: Ochotnicze straże pożarne | D86: =SUM(D88) -> 221600 | E86: =SUM(E88) -> 219281.87
C87: w tym:
C88: - inwestycje i zakupy inwestycyjne | D88: =SUM(D89:D92) -> 221600 | E88: =SUM(E89:E92) -> 219281.87
C89: - rozbudowa i modernizacja remiz OSP | D89: 61600 | E89: 61570.36
C90: - rozbudowa budynku OSP w Radziszowie - etap I | D90: 135000 | E90: 135000
C91: - modernizacja budynku OSP Skawina II i ogrodzenia wokół remizy | D91: 20000 | E91: 18739.51
C92: - zakup sprzętu ratowniczego | D92: 5000 | E92: 3972
B94: 75495 | C94: Pozostała działalność | D94: =SUM(D96) -> 25000 | E94: =SUM(E96) -> 16789
C95: w tym:
C96: - inwestycje i zakupy inwestycyjne | D96: =SUM(D97) -> 25000 | E96: =SUM(E97) -> 16789
C97: - rozbudowa systemu monitoringu | D97: 25000 | E97: 16789
A100: 801 | C100: OŚWIATA I WYCHOWANIE | D100: =SUM(D102+D114+D121+D126+D131) -> 1789208 | E100: =SUM(E102+E114+E121+E126+E131) -> 1685869 | F100: =E100/D100*100 -> 94.224318
B102: 80101 | C102: Szkoły podstawowe | D102: =SUM(D104) -> 883836 | E102: =SUM(E104) -> 781786.36
C103: w tym:
C104: - inwestycje i zakupy inwestycyjne | D104: =SUM(D105:D112) -> 883836 | E104: =SUM(E105:E112) -> 781786.36
C105: - budowa boiska wielofunkcyjnego przy SP w Jaśkowicach | D105: 389384 | E105: 389383.32
C106: - rozbudowa i przebudowa SP 4 | D106: 291584 | E106: 289583
C107: - uporządkowanie gospodarki wodno-ściekowej na terenie działek SP 2 i LO | D107: 100000 | E107: 0
C108: - wykonanie przyłącza kanalizacyjnego do budynku ZSP w Radziszowie | D108: 45733 | E108: 45732
C109: - wykonanie instalacji alarmowej w szkołach: w Woli Radziszowskiej, Zelczynie, Radziszowie | D109: 39482 | E109: 39481
C110: - wykonanie monitoringu w szkole w Rzozowie | D110: 4756 | E110: 4755
C111: - wykonanie instalacji alarmowej w budynku ZPO w Kopance | D111: 4797 | E111: 4796.04
C112: - zakup pieca c.o. do szkoły w Wielkich Drogach | D112: 8100 | E112: 8056
B114: 80104 | C114: Przedszkola | D114: =SUM(D116) -> 706691 | E114: =SUM(E116) -> 705435.17
C115: w tym:
C116: - inwestycje i zakupy inwestycyjne | D116: =SUM(D117:D119) -> 706691 | E116: =SUM(E117:E119) -> 705435.17
C117: - przebudowa budynku szkoły w Polance Hallera na potrzeby przedszkola | D117: 624200 | E117: 622949.68
C118: - wykonanie instalacji alarmowych w Przedszkolach: Nr 1, 2, 3, 5, 6, w Wielkich Drogach, Radziszowie | D118: 63757 | E118: 63751.49
C119: - wykonanie przyłącza wodociągowego do budynku Przedszkola w Radziszowie | D119: 18734 | E119: 18734
B121: 80110 | C121: Gimnazja | D121: =SUM(D123) -> 20786 | E121: =SUM(E123) -> 20784.82
C122: w tym:
C123: - inwestycje i zakupy inwestycyjne | D123: =SUM(D124) -> 20786 | E123: =SUM(E124) -> 20784.82
C124: - wykonanie instalacji alarmowej w G 1 | D124: 20786 | E124: 20784.82
B126: 80132 | C126: Szkoły artystyczne | D126: =SUM(D128) -> 140590 | E126: =SUM(E128) -> 140590
C127: w tym:
C128: - inwestycje i zakupy inwestycyjne | D128: =SUM(D129:D129) -> 140590 | E128: =SUM(E129:E129) -> 140590
C129: - przebudowa przyziemia w skrzydle wschodnim budynku G 1 na potrzeby szkoły muzycznej | D129: 140590 | E129: 140590
...

Sheet Arkusz5
A1: N a z w a | B1: Dział | C1: Plan | D1: Wykonanie | E1: %
A2: ROLNICTWO I ŁOWIECTWO | B2: 010 | C2: 32491.35 | D2: 38892.27 | E2: =+D2/C2 -> 1.1970038
A3: LEŚNICTWO | B3: 020 | C3: 0 | D3: 443.96 | E3: =+D3/C3 -> #DIV/0!
A4: TRANSPORT I ŁĄCZNOŚĆ | B4: 600 | C4: 6630000 | D4: 881051 | E4: =+D4/C4 -> 0.13288854
A5: GOSPODARKA MIESZKANIOWA | B5: 700 | C5: 12822000 | D5: 3942571.2 | E5: =+D5/C5 -> 0.30748489
A6: DZIAŁALNOŚĆ USŁUGOWA | B6: 710 | C6: 40000 | D6: 22561 | E6: =+D6/C6 -> 0.564025
A7: ADMINISTRACJA PUBLICZNA | B7: 750 | C7: 250543 | D7: 135068.84 | E7: =+D7/C7 -> 0.53910443
A8: URZĘDY NACZELNYCH ORGANÓW WŁADZY PAŃSTWOWEJ, KONTROLI I OCHRONY PRAWA ORAZ SĄDOWNICTWA | B8: 751 | C8: 55413 | D8: 52311 | E8: =+D8/C8 -> 0.94402036
A9: OBRONA NARODOWA | B9: 752 | C9: 1500 | D9: 1500 | E9: =+D9/C9 -> 1
A10: BEZPIECZEŃSTWO PUBLICZNE I OCHRONA PRZECIWPOŻAROWA | B10: 754 | C10: 30400 | D10: 21179.46 | E10: =+D10/C10 -> 0.69669276
A11: DOCHODY OD OSÓB PRAWNYCH, OD OSÓB FIZYCZNYCH I OD INNYCH JEDNOSTEK NIE POSIADAJĄCYCH OSOBOWOŚCI PRAWNEJ ORAZ WYDATKI ZWIĄZANE Z ICH POBOREM | B11: 756 | C11: 52898720 | D11: 27450198 | E11: =+D11/C11 -> 0.5189199
A12: RÓŻNE ROZLICZENIA | B12: 758 | C12: 22799340 | D12: 14255598 | E12: =+D12/C12 -> 0.62526362
A13: OŚWIATA I WYCHOWANIE | B13: 801 | C13: 2169556 | D13: 1341092.7 | E13: =+D13/C13 -> 0.61814153
A14: POMOC SPOŁECZNA | B14: 852 | C14: 10348499 | D14: 4868009.9 | E14: =+D14/C14 -> 0.47040734
A15: POZOSTAŁE ZADANIA W ZAKRESIE POLITYKI SPOŁECZNEJ | B15: 853 | C15: 188265.12 | D15: 154108.85 | E15: =+D15/C15 -> 0.81857356
A16: EDUKACYJNA OPIEKA WYCHOWAWCZA | B16: 854 | C16: 528967 | D16: 293481.4 | E16: =+D16/C16 -> 0.55481987
A17: GOSPODARKA KOMUNALNA I OCHRONA ŚRODOWISKA | B17: 900 | C17: 90000 | D17: 17759.27 | E17: =+D17/C17 -> 0.19732522
A19: WYDATKI – OGÓŁEM

Sheet Arkusz6
A1: N a z w a | B1: Dział | C1: Plan | D1: Wykonanie | E1: %
A2: ROLNICTWO I ŁOWIECTWO | B2: 010 | C2: 792084.35 | D2: 309018.14 | E2: =+D2/C2 -> 0.39013287
A3: LEŚNICTWO | B3: 020 | C3: 10000 | D3: 152.5 | E3: =+D3/C3 -> 0.01525
A4: WYTWARZANIE I ZAOPATRYWANIE W ENERGIĘ ELEKTRYCZNĄ, GAZ I WODĘ | B4: 400 | C4: 1487000 | D4: 483016.66 | E4: =+D4/C4 -> 0.32482627
A5: TRANSPORT I ŁĄCZNOŚĆ | B5: 600 | C5: 19213946 | D5: 5487740.6 | E5: =+D5/C5 -> 0.28561237
A6: GOSPODARKA MIESZKANIOWA | B6: 700 | C6: 3985080 | D6: 1580201.9 | E6: =+D6/C6 -> 0.39652952
A7: DZIAŁALNOŚĆ USŁUGOWA | B7: 710 | C7: 595294 | D7: 103605.3 | E7: =+D7/C7 -> 0.17404056
A8: ADMINISTRACJA PUBLICZNA | B8: 750 | C8: 9925086 | D8: 4971221.9 | E8: =+D8/C8 -> 0.50087444
A9: URZĘDY NACZELNYCH ORGANÓW WŁADZY PAŃSTWOWEJ, KONTROLI I OCHRONY PRAWA ORAZ SĄDOWNICTWA | B9: 751 | C9: 55413 | D9: 50626.39 | E9: =+D9/C9 -> 0.91361937
A10: OBRONA NARODOWA | B10: 752 | C10: 1500 | D10: 1499.5 | E10: =+D10/C10 -> 0.99966667
A11: BEZPIECZEŃSTWO PUBLICZNE I OCHRONA PRZECIWPOŻAROWA | B11: 754 | C11: 2474069 | D11: 1252930.2 | E11: =+D11/C11 -> 0.50642491
A12: DOCHODY OD OSÓB PRAWNYCH, OD OSÓB FIZYCZNYCH I OD INNYCH JEDNOSTEK NIE POSIADAJĄCYCH OSOBOWOŚCI PRAWNEJ ORAZ WYDATKI ZWIĄZANE Z ICH POBOREM | B12: 756 | C12: 185000 | D12: 92446.05 | E12: =+D12/C12 -> 0.49970838
A13: OBSŁUGA DŁUGU PUBLICZNEGO | B13: 757 | C13: 2650000 | D13: 1088706.4 | E13: =+D13/C13 -> 0.41083261
A14: RÓŻNE ROZLICZENIA | B14: 758 | C14: 1248343 | D14: 481443 | E14: =+D14/C14 -> 0.38566564
A15: OŚWIATA I WYCHOWANIE | B15: 801 | C15: 43368675 | D15: 20367771 | E15: =+D15/C15 -> 0.46964246
A16: OCHRONA ZDROWIA | B16: 851 | C16: 717455 | D16: 224430.98 | E16: =+D16/C16 -> 0.31281541
A17: POMOC SPOŁECZNA | B17: 852 | C17: 13660269 | D17: 6238035.1 | E17: =+D17/C17 -> 0.45665537
A18: POZOSTAŁE ZADANIA W ZAKRESIE POLITYKI SPOŁECZNEJ | B18: 853 | C18: 683265.12 | D18: 374675.82 | E18: =+D18/C18 -> 0.54836082
A19: EDUKACYJNA OPIEKA WYCHOWAWCZA | B19: 854 | C19: 1947467 | D19: 1084026 | E19: =+D19/C19 -> 0.55663383
A20: GOSPODARKA KOMUNALNA I OCHRONA ŚRODOWISKA | B20: 900 | C20: 12163045 | D20: 4010335.3 | E20: =+D20/C20 -> 0.32971475
A21: KULTURA I OCHRONA DZIEDZICTWA NARODOWEGO | B21: 921 | C21: 5449608 | D21: 2413093 | E21: =+D21/C21 -> 0.44280122
A22: KULTURA FIZYCZNA I SPORT | B22: 926 | C22: 1033320 | D22: 242991.94 | E22: =+D22/C22 -> 0.23515652
A24: WYDATKI – OGÓŁEM
