Workbook

Sheet Arkusz1
A2: S P R A W O Z D A N I E
A3: z wykonania budżetu Miasta i Gminy SKAWINA
A4: za 2013 r.
B7: I. DOCHODY
E8: w złotych
C9: Plan | F9: %
A10: Dział | B10: N a z w a | C10: wg | D10: po | E10: Wykonanie | F10: wykonania
C11: Uchwały | D11: zmianach
C12: Budżetowej | F12: 5 : 4
A13: 1 | B13: 2 | C13: 3 | D13: 4 | E13: 5 | F13: 6
A15: 010 | B15: ROLNICTWO I ŁOWIECTWO | C15: =SUM(C17+C20) -> 5000 | D15: =SUM(D17+D20) -> 33937.44 | E15: =SUM(E17+E20) -> 33537.44 | F15: =E15/D15*100 -> 98.821361
B16: w tym:
B17: a) dochody bieżące | D17: =SUM(D18:D18) -> 33437.44 | E17: =SUM(E18:E18) -> 33437.44
B18: - dotacja celowa otrzymana z budżetu państwa na wypłaty producentom rolnym zwrotu podatku akcyzowego do produkcji rolnej | D18: 33437.44 | E18: 33437.44
B20: b) dochody majątkowe | C20: =SUM(C21) -> 5000 | D20: =SUM(D21:D21) -> 500 | E20: =SUM(E21:E21) -> 100
B21: - środki na dofinansowanie własnych inwestycji gmin (związków gmin), powiatów (związków powiatów), samorządów województw pozyskane z innych źródeł | C21: 5000 | D21: 500 | E21: 100
A23: 020 | B23: LEŚNICTWO | C23: =SUM(C26+C29) -> 2000 | D23: =SUM(D26+D29) -> 2210 | E23: =SUM(E26+E29) -> 2400.81 | F23: =E23/D23*100 -> 108.63394
B24: w tym:
B26: a) dochody bieżące | C26: =SUM(C27) -> 1000 | D26: =SUM(D27) -> 1630 | E26: =SUM(E27) -> 1823.03
B27: - dochody z najmu i dzierżawy składników majątkowych Skarbu Państwa, jednostek samorządu terytorialnego lub innych jednostek zaliczanych do sektora finansów publicznych oraz innych umów o podobnym charakterze | C27: 1000 | D27: 1630 | E27: 1823.03
B29: b) dochody majątkowe | C29: =SUM(C30) -> 1000 | D29: =SUM(D30) -> 580 | E29: =SUM(E30) -> 577.78
B30: - wpływy ze sprzedaży składników majątkowych | C30: 1000 | D30: 580 | E30: 577.78
A34: 600 | B34: TRANSPORT I ŁĄCZNOŚĆ | C34: =SUM(C36+C41) -> 2478670 | D34: =SUM(D36+D41) -> 508228 | E34: =SUM(E36+E41) -> 397645.01 | F34: =E34/D34*100 -> 78.241461
B35: w tym:
B36: a) dochody bieżące | C36: =SUM(C37:C39) -> 400000 | D36: =SUM(D37:D39) -> 286044 | E36: =SUM(E37:E39) -> 175601
B37: - dotacje celowe otrzymane z powiatu na zadania bieżące realizowane na podstawie porozumień (umów) między jednostkami samorządu terytorialnego - zimowe utrzymanie dróg powiatowych | C37: 400000 | D37: 190443 | E37: 80000
B39: - dotacje celowe otrzymane z budżetu państwa na realizację własnych zadań bieżących gmin (związków gmin) - na usuwanie skutków klęsk żywiołowych | D39: 95601 | E39: 95601
B41: b) dochody majątkowe | C41: =SUM(C42:C46) -> 2078670 | D41: =SUM(D42:D46) -> 222184 | E41: =SUM(E42:E46) -> 222044.01
B42: - dotacje celowe w ramach programów finansowanych z udziałem środków europejskich oraz środków, o których mowa w art. 5 ust. 1 pkt 3 oraz ust 3 pkt 5 i 6 ustawy, lub płatności w ramach budżetu środków europejskich | C42: 2078670 | D42: 0 | E42: 0
B44: - dotacje celowe otrzymane z powiatu na inwestycje i zakupy inwestycyjne realizowane na podstawie porozumień (umów) między jednostkami samorządu terytorialnego | D44: 30600 | E44: 30600
B46: - dotacje celowe otrzymane samorządu województwa na inwestycje i zakupy inwestycyjne realizowane na podstawie porozumień (umów) między jednostkami samorządu terytorialnego | D46: 191584 | E46: 191444.01
A48: 630 | B48: TURYSTYKA | C48: =SUM(C50) -> 1200000 | D48: =SUM(D50) -> 0 | E48: 0
B49: w tym:
B50: b) dochody majątkowe | C50: =SUM(C51) -> 1200000 | D50: =SUM(D51) -> 0 | E50: 0
B51: - dotacje celowe w ramach programów finansowanych z udziałem środków europejskich oraz środków, o których mowa w art. 5 ust. 1 pkt 3 oraz ust 3 pkt 5 i 6 ustawy, lub płatności w ramach budżetu środków europejskich | C51: 1200000 | D51: 0 | E51: 0
A54: 700 | B54: GOSPODARKA MIESZKANIOWA | C54: =SUM(C57+C66) -> 13895000 | D54: =SUM(D57+D66) -> 11093905 | E54: =SUM(E57+E66) -> 11016424 | F54: =E54/D54*100 -> 99.30159
B55: w tym:
B57: a) dochody bieżące | C57: =SUM(C58+C60+C62+C64) -> 4375000 | D57: =SUM(D58+D60+D62+D64) -> 4357600 | E57: =SUM(E58+E60+E62+E64) -> 4377669.9
B58: - pozostałe odsetki | C58: 5000 | D58: 12600 | E58: 12915
B60: - wpływy z opłat za trwały zarząd, użytkowanie, służebność i użytkowanie wieczyste nieruchomości | C60: 320000 | D60: 275000 | E60: 269586.58
...

Sheet Arkusz2
C1: II. WYDATKI
F2: w złotych
D3: Plan
A4: Dział | B4: Rozdz. | C4: N a z w a | D4: wg | E4: po | F4: Wykonanie | G4: %
D5: Uchwały Budżetowej | E5: zmianach | G5: 6:5
A7: 1 | B7: 2 | C7: 3 | D7: 4 | E7: 5 | F7: 6 | G7: 7
A9: 010 | C9: ROLNICTWO I ŁOWIECTWO | D9: =SUM(D11+D17+D27) -> 479200 | E9: =SUM(E11+E17+E21+E27) -> 664377.44 | F9: =SUM(F11+F17+F21+F27) -> 649093.2 | G9: =F9/E9*100 -> 97.699464
B11: 01008 | C11: Melioracje wodne | D11: =SUM(D13+D15) -> 411200 | E11: =SUM(E13+E15) -> 391160 | F11: =SUM(F13+F15) -> 378646.78
C12: w tym:
C13: a) wydatki bieżące | D13: 211200 | E13: =SUM(Arkusz3!D11) -> 60160 | F13: =SUM(Arkusz3!E11) -> 53081.77
C15: b) wydatki majątkowe | D15: 200000 | E15: =SUM(Arkusz4!D11) -> 331000 | F15: =SUM(Arkusz4!E11) -> 325565.01
B17: 01030 | C17: Izby rolnicze | D17: =SUM(D19) -> 28000 | E17: =SUM(E19) -> 31000 | F17: =SUM(F19) -> 30653.86
C18: w tym:
C19: a) wydatki bieżące | D19: 28000 | E19: =SUM(Arkusz3!D18) -> 31000 | F19: =SUM(Arkusz3!E18) -> 30653.86
B21: 01078 | C21: Usuwanie skutków klęsk żywiołowych | D21: 0 | E21: =SUM(E23+E25) -> 197780 | F21: =SUM(F23+F25) -> 197730.07
C22: w tym:
C23: a) wydatki bieżące | D23: 0 | E23: =SUM(Arkusz3!D24) -> 131080 | F23: =SUM(Arkusz3!E24) -> 131076.23
C25: b) wydatki majątkowe | D25: 0 | E25: =SUM(Arkusz4!D16) -> 66700 | F25: =SUM(Arkusz4!E16) -> 66653.84
B27: 01095 | C27: Pozostała działalność | D27: =SUM(D29) -> 40000 | E27: =SUM(E29) -> 44437.44 | F27: =SUM(F29) -> 42062.49
C28: w tym:
C29: a) wydatki bieżące | D29: 40000 | E29: =SUM(Arkusz3!D30) -> 44437.44 | F29: =SUM(Arkusz3!E30) -> 42062.49
A32: 020 | C32: LEŚNICTWO | D32: =SUM(D34) -> 5000 | E32: =SUM(E34) -> 5000 | F32: =SUM(F34) -> 3498.4 | G32: =F32/E32*100 -> 69.968
B34: 02001 | C34: Gospodarka leśna | D34: =SUM(D36) -> 5000 | E34: =SUM(E36) -> 5000 | F34: =SUM(F36) -> 3498.4
C35: w tym:
C36: a) wydatki bieżące | D36: 5000 | E36: =SUM(Arkusz3!D39) -> 5000 | F36: =SUM(Arkusz3!E39) -> 3498.4
A39: 600 | C39: TRANSPORT I ŁĄCZNOŚĆ | D39: =SUM(D41+D45+D49+D55+D61+D67) -> 8576200 | E39: =SUM(E41+E45+E49+E55+E61+E67) -> 12835879 | F39: =SUM(F41+F45+F49+F55+F61+F67) -> 12497661 | G39: =F39/E39*100 -> 97.365058
B41: 60004 | C41: Lokalny transport zbiorowy | D41: =SUM(D43) -> 3040000 | E41: =SUM(E43) -> 2917950 | F41: =SUM(F43) -> 2869886.9
C42: w tym:
C43: a) wydatki bieżące | D43: 3040000 | E43: =SUM(Arkusz3!D49) -> 2917950 | F43: =SUM(Arkusz3!E49) -> 2869886.9
B45: 60013 | C45: Drogi publiczne wojewódzkie | D45: =SUM(D47) -> 450000 | E45: =SUM(E47) -> 649184 | F45: =SUM(F47) -> 648888.02
C46: w tym:
C47: b) wydatki majątkowe | D47: 450000 | E47: =SUM(Arkusz4!D24) -> 649184 | F47: =SUM(Arkusz4!E24) -> 648888.02
B49: 60014 | C49: Drogi publiczne powiatowe | D49: =SUM(D51+D53) -> 1830000 | E49: =SUM(E51+E53) -> 851643 | F49: =SUM(F51+F53) -> 815512.15
C50: w tym:
C51: a) wydatki bieżące | D51: 400000 | E51: =SUM(Arkusz3!D56) -> 190443 | F51: =SUM(Arkusz3!E56) -> 190442.25
C53: b) wydatki majątkowe | D53: 1430000 | E53: =SUM(Arkusz4!D29) -> 661200 | F53: =SUM(Arkusz4!E29) -> 625069.9
B55: 60016 | C55: Drogi publiczne gminne | D55: =SUM(D57+D59) -> 3141200 | E55: =SUM(E57+E59) -> 7212699 | F55: =SUM(F57+F59) -> 6973899.1
C56: w tym:
C57: a) wydatki bieżące | D57: 2778200 | E57: =SUM(Arkusz3!D62) -> 3077009 | F57: =SUM(Arkusz3!E62) -> 2970732.2
C59: b) wydatki majątkowe | D59: 363000 | E59: =SUM(Arkusz4!D35) -> 4135690 | F59: =SUM(Arkusz4!E35) -> 4003166.9
...

Sheet Arkusz3
B2: III. WYDATKI bieżące
E3: w złotych
A5: Dział | B5: Rozdz. | C5: N a z w a | D5: Plan | E5: Wykonanie | F5: %
F6: 5:4
A7: 1 | B7: 2 | C7: 3 | D7: 4 | E7: 5 | F7: 6
A9: 010 | C9: ROLNICTWO I ŁOWIECTWO | D9: =SUM(D11+D18+D24+D30) -> 266677.44 | E9: =SUM(E11+E18+E24+E30) -> 256874.35 | F9: =E9/D9*100 -> 96.32399
B11: 01008 | C11: Melioracje wodne | D11: =SUM(D13) -> 60160 | E11: =SUM(E13) -> 53081.77
C12: w tym:
C13: - wydatki bieżące jednostek budżetowych | D13: =SUM(D15:D16) -> 60160 | E13: =SUM(E15:E16) -> 53081.77
C14: z tego:
C15: - wynagrodzenia i składki od nich naliczane | D15: 23000 | E15: 22536.17
C16: - związane z realizacją zadań statutowych jednostek budżetowych | D16: 37160 | E16: 30545.6
B18: 01030 | C18: Izby rolnicze | D18: =SUM(D20) -> 31000 | E18: =SUM(E20) -> 30653.86
C19: w tym:
C20: - wydatki bieżące jednostek budżetowych | D20: =SUM(D22) -> 31000 | E20: =SUM(E22) -> 30653.86
C21: z tego:
C22: - związane z realizacją zadań statutowych jednostek budżetowych | D22: 31000 | E22: 30653.86
B24: 01078 | C24: Usuwanie skutków klęsk żywiołowych | D24: =SUM(D26) -> 131080 | E24: =SUM(E26) -> 131076.23
C25: w tym:
C26: - wydatki bieżące jednostek budżetowych | D26: =SUM(D28) -> 131080 | E26: =SUM(E28) -> 131076.23
C27: z tego:
C28: - związane z realizacją zadań statutowych jednostek budżetowych | D28: 131080 | E28: 131076.23
B30: 01095 | C30: Pozostała działalność | D30: =SUM(D32) -> 44437.44 | E30: =SUM(E32) -> 42062.49
C31: w tym:
C32: - wydatki bieżące jednostek budżetowych | D32: =SUM(D34) -> 44437.44 | E32: =SUM(E34) -> 42062.49
C33: z tego:
C34: - związane z realizacją zadań statutowych jednostek budżetowych | D34: 44437.44 | E34: 42062.49
A37: 020 | C37: LEŚNICTWO | D37: =SUM(D39) -> 5000 | E37: =SUM(E39) -> 3498.4 | F37: =E37/D37*100 -> 69.968
B39: 02001 | C39: Gospodarka leśna | D39: =SUM(D41) -> 5000 | E39: =SUM(E41) -> 3498.4
C40: w tym:
C41: - wydatki bieżące jednostek budżetowych | D41: =SUM(D43:D44) -> 5000 | E41: =SUM(E43:E44) -> 3498.4
C42: z tego:
C43: - wynagrodzenia i składki od nich naliczane | D43: 1000 | E43: 0
C44: - związane z realizacją zadań statutowych jednostek budżetowych | D44: 4000 | E44: 3498.4
A47: 600 | C47: TRANSPORT I ŁĄCZNOŚĆ | D47: =SUM(D49+D56+D62+D69+D75) -> 6900185 | E47: =SUM(E49+E56+E62+E69+E75) -> 6735742.3 | F47: =E47/D47*100 -> 97.616837
B49: 60004 | C49: Lokalny transport zbiorowy | D49: =SUM(D51+D54) -> 2917950 | E49: =SUM(E51+E54) -> 2869886.9
C50: w tym:
C51: - wydatki bieżące jednostek budżetowych | D51: =SUM(D53) -> 125950 | E51: =SUM(E53) -> 115229.51
C52: z tego:
C53: - związane z realizacją zadań statutowych jednostek budżetowych | D53: 125950 | E53: 115229.51
...

Sheet Arkusz4
B2: IV. WYDATKI MAJĄTKOWE
E3: w złotych
A5: Dział | B5: Rozdz. | C5: N a z w a | D5: Plan | E5: Wykonanie | F5: %
F6: 5:4
A7: 1 | B7: 2 | C7: 3 | D7: 4 | E7: 5 | F7: 6
A9: 010 | C9: ROLNICTWO I ŁOWIECTWO | D9: =SUM(D11+D16) -> 397700 | E9: =SUM(E11+E16) -> 392218.85 | F9: =E9/D9 -> 0.98621788
B11: 01008 | C11: Melioracje wodne | D11: =SUM(D13) -> 331000 | E11: =SUM(E13) -> 325565.01
C12: w tym:
C13: - inwestycje i zakupy inwestycyjne | D13: =SUM(D14) -> 331000 | E13: =SUM(E14) -> 325565.01
C14: - budowa i modernizacja budowli melioracyjnych | D14: 331000 | E14: 325565.01
B16: 01078 | C16: Usuwanie skutków klęsk żywiołowych | D16: =SUM(D18) -> 66700 | E16: =SUM(E18) -> 66653.84
C17: w tym:
C18: - inwestycje i zakupy inwestycyjne | D18: =SUM(D19) -> 66700 | E18: =SUM(E19) -> 66653.84
C19: - odbudowa skarpy i umocnienia brzegu potoku "Czekajówka" przy ul. Kublińskiego | D19: 66700 | E19: 66653.84
A22: 600 | C22: TRANSPORT I ŁĄCZNOŚĆ | D22: =SUM(D24+D29+D35+D51+D56) -> 5935694 | E22: =SUM(E24+E29+E35+E51+E56) -> 5761918.7 | F22: =E22/D22*100 -> 97.072367
B24: 60013 | C24: Drogi publiczne wojewódzkie | D24: =SUM(D26) -> 649184 | E24: =SUM(E26) -> 648888.02
C25: w tym:
C26: - inwestycje i zakupy inwestycyjne | D26: =SUM(D27:D27) -> 649184 | E26: =SUM(E27:E27) -> 648888.02
C27: - budowa chodników wraz z odwodnieniem w m. Rzozów w ciągu drogi 953 | D27: 649184 | E27: 648888.02
B29: 60014 | C29: Drogi publiczne powiatowe | D29: =SUM(D31) -> 661200 | E29: =SUM(E31) -> 625069.9
C30: w tym:
C31: - inwestycje i zakupy inwestycyjne | D31: =SUM(D32,D33) -> 661200 | E31: =SUM(E32:E33) -> 625069.9
C32: - zadania w ramach IS 2013 | D32: 600000 | E32: 563869.9
C33: - przebudowa kanalizacji K2 wraz z remontem rowu na DP nr 1939K w m. Rzozów | D33: 61200 | E33: 61200
B35: 60016 | C35: Drogi publiczne gminne | D35: =SUM(D37) -> 4135690 | E35: =SUM(E37) -> 4003166.9
C36: w tym:
C37: - inwestycje i zakupy inwestycyjne | D37: =SUM(D38:D48) -> 4135690 | E37: =SUM(E38:E48) -> 4003166.9
C38: - budowa chodnika stanowiącego dojście do istniejącej kładki dla pieszych nad torami PKP od strony ul. Torowej w Skawinie | D38: 23150 | E38: 23134
C39: - budowa parkingu w rejonie basenu "Camena" | D39: 220850 | E39: 220850
C40: - budowa parkingu na działce nr 2341/1 przy ul. Kolejowej | D40: 28000 | E40: 28000
C41: - budowa parkingu na działce nr 2403 przy ul. Kolejowej | D41: 21000 | E41: 21000
C42: - odwodnienie centrum Radziszowa dla zlewni wód powierzchniowych w centrum oraz ul. Jagodowej i Widokowej | D42: 50000 | E42: 47109
C43: - przebudowa wlotu ul. Jaśminowej w Radziszowie do drogi powiatowej | D43: 10000 | E43: 4305
C44: - remont i przebudowa dróg, ulic i chodników: droga w m. Grabie, ul. Dębca, Tyniecka i Wojska Polskiego | D44: 482690 | E44: 482685
C45: - budowa drogi ul. Łąkowa, Kwiatowa | D45: 30000 | E45: 28566.51
C46: - przebudowa mostu na kanale Skawina-Łączany w m. Facimiech | D46: 70000 | E46: 0
C47: z tego:
C48: - na programy finansowane z udziałem środków, o których mowa w art. 5 ust 1 pkt 2 i 3 | D48: =SUM(D49:D49) -> 3200000 | E48: =SUM(E49:E49) -> 3147517.4
C49: - budowa Obwodnicy Skawiny | D49: 3200000 | E49: 3147517.4
B51: 60078 | C51: Usuwanie skutków klęsk żywiołowych | D51: =SUM(D53) -> 484700 | E51: =SUM(E53) -> 482333.85
...

Sheet Arkusz5
A1: N a z w a | B1: Dział | C1: Plan | D1: Wykonanie | E1: %
A2: ROLNICTWO I ŁOWIECTWO | B2: 010 | C2: 32491.35 | D2: 38892.27 | E2: =+D2/C2 -> 1.1970038
A3: LEŚNICTWO | B3: 020 | C3: 0 | D3: 443.96 | E3: =+D3/C3 -> #DIV/0!
A4: TRANSPORT I ŁĄCZNOŚĆ | B4: 600 | C4: 6630000 | D4: 881051 | E4: =+D4/C4 -> 0.13288854
A5: GOSPODARKA MIESZKANIOWA | B5: 700 | C5: 12822000 | D5: 3942571.2 | E5: =+D5/C5 -> 0.30748489
A6: DZIAŁALNOŚĆ USŁUGOWA | B6: 710 | C6: 40000 | D6: 22561 | E6: =+D6/C6 -> 0.564025
A7: ADMINISTRACJA PUBLICZNA | B7: 750 | C7: 250543 | D7: 135068.84 | E7: =+D7/C7 -> 0.53910443
A8: URZĘDY NACZELNYCH ORGANÓW WŁADZY PAŃSTWOWEJ, KONTROLI I OCHRONY PRAWA ORAZ SĄDOWNICTWA | B8: 751 | C8: 55413 | D8: 52311 | E8: =+D8/C8 -> 0.94402036
A9: OBRONA NARODOWA | B9: 752 | C9: 1500 | D9: 1500 | E9: =+D9/C9 -> 1
A10: BEZPIECZEŃSTWO PUBLICZNE I OCHRONA PRZECIWPOŻAROWA | B10: 754 | C10: 30400 | D10: 21179.46 | E10: =+D10/C10 -> 0.69669276
A11: DOCHODY OD OSÓB PRAWNYCH, OD OSÓB FIZYCZNYCH I OD INNYCH JEDNOSTEK NIE POSIADAJĄCYCH OSOBOWOŚCI PRAWNEJ ORAZ WYDATKI ZWIĄZANE Z ICH POBOREM | B11: 756 | C11: 52898720 | D11: 27450198 | E11: =+D11/C11 -> 0.5189199
A12: RÓŻNE ROZLICZENIA | B12: 758 | C12: 22799340 | D12: 14255598 | E12: =+D12/C12 -> 0.62526362
A13: OŚWIATA I WYCHOWANIE | B13: 801 | C13: 2169556 | D13: 1341092.7 | E13: =+D13/C13 -> 0.61814153
A14: POMOC SPOŁECZNA | B14: 852 | C14: 10348499 | D14: 4868009.9 | E14: =+D14/C14 -> 0.47040734
A15: POZOSTAŁE ZADANIA W ZAKRESIE POLITYKI SPOŁECZNEJ | B15: 853 | C15: 188265.12 | D15: 154108.85 | E15: =+D15/C15 -> 0.81857356
A16: EDUKACYJNA OPIEKA WYCHOWAWCZA | B16: 854 | C16: 528967 | D16: 293481.4 | E16: =+D16/C16 -> 0.55481987
A17: GOSPODARKA KOMUNALNA I OCHRONA ŚRODOWISKA | B17: 900 | C17: 90000 | D17: 17759.27 | E17: =+D17/C17 -> 0.19732522
A19: WYDATKI – OGÓŁEM

Sheet Arkusz6
A1: N a z w a | B1: Dział | C1: Plan | D1: Wykonanie | E1: %
A2: ROLNICTWO I ŁOWIECTWO | B2: 010 | C2: 792084.35 | D2: 309018.14 | E2: =+D2/C2 -> 0.39013287
A3: LEŚNICTWO | B3: 020 | C3: 10000 | D3: 152.5 | E3: =+D3/C3 -> 0.01525
A4: WYTWARZANIE I ZAOPATRYWANIE W ENERGIĘ ELEKTRYCZNĄ, GAZ I WODĘ | B4: 400 | C4: 1487000 | D4: 483016.66 | E4: =+D4/C4 -> 0.32482627
A5: TRANSPORT I ŁĄCZNOŚĆ | B5: 600 | C5: 19213946 | D5: 5487740.6 | E5: =+D5/C5 -> 0.28561237
A6: GOSPODARKA MIESZKANIOWA | B6: 700 | C6: 3985080 | D6: 1580201.9 | E6: =+D6/C6 -> 0.39652952
A7: DZIAŁALNOŚĆ USŁUGOWA | B7: 710 | C7: 595294 | D7: 103605.3 | E7: =+D7/C7 -> 0.17404056
A8: ADMINISTRACJA PUBLICZNA | B8: 750 | C8: 9925086 | D8: 4971221.9 | E8: =+D8/C8 -> 0.50087444
A9: URZĘDY NACZELNYCH ORGANÓW WŁADZY PAŃSTWOWEJ, KONTROLI I OCHRONY PRAWA ORAZ SĄDOWNICTWA | B9: 751 | C9: 55413 | D9: 50626.39 | E9: =+D9/C9 -> 0.91361937
A10: OBRONA NARODOWA | B10: 752 | C10: 1500 | D10: 1499.5 | E10: =+D10/C10 -> 0.99966667
A11: BEZPIECZEŃSTWO PUBLICZNE I OCHRONA PRZECIWPOŻAROWA | B11: 754 | C11: 2474069 | D11: 1252930.2 | E11: =+D11/C11 -> 0.50642491
A12: DOCHODY OD OSÓB PRAWNYCH, OD OSÓB FIZYCZNYCH I OD INNYCH JEDNOSTEK NIE POSIADAJĄCYCH OSOBOWOŚCI PRAWNEJ ORAZ WYDATKI ZWIĄZANE Z ICH POBOREM | B12: 756 | C12: 185000 | D12: 92446.05 | E12: =+D12/C12 -> 0.49970838
A13: OBSŁUGA DŁUGU PUBLICZNEGO | B13: 757 | C13: 2650000 | D13: 1088706.4 | E13: =+D13/C13 -> 0.41083261
A14: RÓŻNE ROZLICZENIA | B14: 758 | C14: 1248343 | D14: 481443 | E14: =+D14/C14 -> 0.38566564
A15: OŚWIATA I WYCHOWANIE | B15: 801 | C15: 43368675 | D15: 20367771 | E15: =+D15/C15 -> 0.46964246
A16: OCHRONA ZDROWIA | B16: 851 | C16: 717455 | D16: 224430.98 | E16: =+D16/C16 -> 0.31281541
A17: POMOC SPOŁECZNA | B17: 852 | C17: 13660269 | D17: 6238035.1 | E17: =+D17/C17 -> 0.45665537
A18: POZOSTAŁE ZADANIA W ZAKRESIE POLITYKI SPOŁECZNEJ | B18: 853 | C18: 683265.12 | D18: 374675.82 | E18: =+D18/C18 -> 0.54836082
A19: EDUKACYJNA OPIEKA WYCHOWAWCZA | B19: 854 | C19: 1947467 | D19: 1084026 | E19: =+D19/C19 -> 0.55663383
A20: GOSPODARKA KOMUNALNA I OCHRONA ŚRODOWISKA | B20: 900 | C20: 12163045 | D20: 4010335.3 | E20: =+D20/C20 -> 0.32971475
A21: KULTURA I OCHRONA DZIEDZICTWA NARODOWEGO | B21: 921 | C21: 5449608 | D21: 2413093 | E21: =+D21/C21 -> 0.44280122
A22: KULTURA FIZYCZNA I SPORT | B22: 926 | C22: 1033320 | D22: 242991.94 | E22: =+D22/C22 -> 0.23515652
A24: WYDATKI – OGÓŁEM
